BEGIN:VCALENDAR
VERSION:2.0
PRODID:-//ABAS - ECPv6.15.18//NONSGML v1.0//EN
CALSCALE:GREGORIAN
METHOD:PUBLISH
X-ORIGINAL-URL:https://abas.eco.br
X-WR-CALDESC:Eventos para ABAS
REFRESH-INTERVAL;VALUE=DURATION:PT1H
X-Robots-Tag:noindex
X-PUBLISHED-TTL:PT1H
BEGIN:VTIMEZONE
TZID:UTC
BEGIN:STANDARD
TZOFFSETFROM:+0000
TZOFFSETTO:+0000
TZNAME:UTC
DTSTART:20240101T000000
END:STANDARD
END:VTIMEZONE
BEGIN:VEVENT
DTSTART;TZID=UTC:20250610T110000
DTEND;TZID=UTC:20250610T190000
DTSTAMP:20260424T124936
CREATED:20250113T152119Z
LAST-MODIFIED:20250113T161532Z
UID:1203-1749553200-1749582000@abas.eco.br
SUMMARY:DIA 01: FCE Cosmetique
DESCRIPTION:A ABAS criou o Pavilhão Aerossol na FCE Cosmetique\, reunindo as principais empresas do setor em um ambiente ideal para decisores. O espaço oferece inovações\, soluções tecnológicas de ponta e oportunidades para fechar negócios. Não perca a chance de explorar tendências\, estabelecer conexões e impulsionar o crescimento do mercado!
URL:https://abas.eco.br/evento/fce-cosmetique-10-06/
LOCATION:São Paulo Expo\, Av. Miguel Estéfano\, nº 3.000\, São Paulo\, São Paulo\, 04301-001\, Brazil
CATEGORIES:Feira
END:VEVENT
BEGIN:VEVENT
DTSTART;TZID=UTC:20250611T110000
DTEND;TZID=UTC:20250611T190000
DTSTAMP:20260424T124936
CREATED:20250113T152457Z
LAST-MODIFIED:20250113T161538Z
UID:1206-1749639600-1749668400@abas.eco.br
SUMMARY:DIA 02: FCE Cosmetique
DESCRIPTION:A ABAS criou o Pavilhão Aerossol na FCE Cosmetique\, reunindo as principais empresas do setor em um ambiente ideal para decisores. O espaço oferece inovações\, soluções tecnológicas de ponta e oportunidades para fechar negócios. Não perca a chance de explorar tendências\, estabelecer conexões e impulsionar o crescimento do mercado!
URL:https://abas.eco.br/evento/fce-cosmetique11-06/
LOCATION:São Paulo Expo\, Av. Miguel Estéfano\, nº 3.000\, São Paulo\, São Paulo\, 04301-001\, Brazil
CATEGORIES:Feira
END:VEVENT
BEGIN:VEVENT
DTSTART;TZID=UTC:20250612T110000
DTEND;TZID=UTC:20250612T190000
DTSTAMP:20260424T124936
CREATED:20250113T152631Z
LAST-MODIFIED:20250113T161544Z
UID:1208-1749726000-1749754800@abas.eco.br
SUMMARY:DIA 03: FCE Cosmetique
DESCRIPTION:A ABAS criou o Pavilhão Aerossol na FCE Cosmetique\, reunindo as principais empresas do setor em um ambiente ideal para decisores. O espaço oferece inovações\, soluções tecnológicas de ponta e oportunidades para fechar negócios. Não perca a chance de explorar tendências\, estabelecer conexões e impulsionar o crescimento do mercado!
URL:https://abas.eco.br/evento/fce-cosmetique12-06/
LOCATION:São Paulo Expo\, Av. Miguel Estéfano\, nº 3.000\, São Paulo\, São Paulo\, 04301-001\, Brazil
CATEGORIES:Feira
END:VEVENT
END:VCALENDAR