BEGIN:VCALENDAR
VERSION:2.0
PRODID:-//ABAS - ECPv6.15.18//NONSGML v1.0//EN
CALSCALE:GREGORIAN
METHOD:PUBLISH
X-ORIGINAL-URL:https://abas.eco.br
X-WR-CALDESC:Eventos para ABAS
REFRESH-INTERVAL;VALUE=DURATION:PT1H
X-Robots-Tag:noindex
X-PUBLISHED-TTL:PT1H
BEGIN:VTIMEZONE
TZID:UTC
BEGIN:STANDARD
TZOFFSETFROM:+0000
TZOFFSETTO:+0000
TZNAME:UTC
DTSTART:20250101T000000
END:STANDARD
END:VTIMEZONE
BEGIN:VEVENT
DTSTART;TZID=UTC:20260601T110000
DTEND;TZID=UTC:20260601T190000
DTSTAMP:20260423T183526
CREATED:20260109T182905Z
LAST-MODIFIED:20260109T183111Z
UID:3025-1780311600-1780340400@abas.eco.br
SUMMARY:FCE Cosmetique
DESCRIPTION:Em 2025: \n\n+25 mil visitantes\n10 expositores\nHappy Hour com 100 líderes\n\nEm breve\, divulgaremos mais informações.\nPara dúvidas\, entre em contato pelo telefone +55 11 91330-4966.
URL:https://abas.eco.br/evento/fce-cosmetique/
LOCATION:São Paulo Expo\, Av. Miguel Estéfano\, nº 3.000\, São Paulo\, São Paulo\, 04301-001\, Brazil
END:VEVENT
BEGIN:VEVENT
DTSTART;TZID=UTC:20260602T110000
DTEND;TZID=UTC:20260602T190000
DTSTAMP:20260423T183527
CREATED:20260109T183031Z
LAST-MODIFIED:20260109T183031Z
UID:3027-1780398000-1780426800@abas.eco.br
SUMMARY:FCE Cosmetique
DESCRIPTION:Em 2025: \n\n+25 mil visitantes\n10 expositores\nHappy Hour com 100 líderes\n\nEm breve\, divulgaremos mais informações.\nPara dúvidas\, entre em contato pelo telefone +55 11 91330-4966.
URL:https://abas.eco.br/evento/fce-cosmetique-2/
LOCATION:São Paulo Expo\, Av. Miguel Estéfano\, nº 3.000\, São Paulo\, São Paulo\, 04301-001\, Brazil
END:VEVENT
BEGIN:VEVENT
DTSTART;TZID=UTC:20260603T110000
DTEND;TZID=UTC:20260603T190000
DTSTAMP:20260423T183527
CREATED:20260109T183159Z
LAST-MODIFIED:20260109T183159Z
UID:3029-1780484400-1780513200@abas.eco.br
SUMMARY:FCE Cosmetique
DESCRIPTION:Em 2025: \n\n+25 mil visitantes\n10 expositores\nHappy Hour com 100 líderes\n\nEm breve\, divulgaremos mais informações.\nPara dúvidas\, entre em contato pelo telefone +55 11 91330-4966.
URL:https://abas.eco.br/evento/fce-cosmetique-3/
END:VEVENT
END:VCALENDAR