BEGIN:VCALENDAR
VERSION:2.0
PRODID:-//ABAS - ECPv6.15.18//NONSGML v1.0//EN
CALSCALE:GREGORIAN
METHOD:PUBLISH
X-ORIGINAL-URL:https://abas.eco.br
X-WR-CALDESC:Eventos para ABAS
REFRESH-INTERVAL;VALUE=DURATION:PT1H
X-Robots-Tag:noindex
X-PUBLISHED-TTL:PT1H
BEGIN:VTIMEZONE
TZID:UTC
BEGIN:STANDARD
TZOFFSETFROM:+0000
TZOFFSETTO:+0000
TZNAME:UTC
DTSTART:20240101T000000
END:STANDARD
END:VTIMEZONE
BEGIN:VEVENT
DTSTART;TZID=UTC:20251105T150000
DTEND;TZID=UTC:20251105T220000
DTSTAMP:20260423T232722
CREATED:20250113T161346Z
LAST-MODIFIED:20251104T214420Z
UID:1235-1762354800-1762380000@abas.eco.br
SUMMARY:Confraternização ABAS
DESCRIPTION:  \n \nParticipe de um ambiente estratégico\, pensado para o planejamento da sua empresa em 2026. Em parceria com a ABRALATAS\, nossa confraternização de final de ano será uma oportunidade única de conectar-se\, trocar experiências e acessar informações essenciais para o futuro do setor. Durante o encontro\, apresentaremos os Dados de Mercado 2024/2025 e realizaremos um Painel Tributário\, com insights estratégicos que apoiarão decisões-chave em 2026. \n\nInscreva-se: https://forms.gle/heKpdgs22YoTbaDJ8\n\n\n \nProgramação:\n15:30 às 16:30 –  Welcome coffee \n16:30 às 17:00 –  Abertura\, patrocinadores e Apresentação de resultados ABAS\n17:00 às 17:40 – Painel tributário\n17:40 às 18:40 – Lançamento de Dados de Mercado 2024/2025\n18:40 às 19:00 – Encerramento \n19:00 às 22:00 – Coquetel Encontro da Lata\n\n \nEndereço: Rua Castro Verde\, 266 – Jardim Caravelas\, São Paulo\n\n\nSugestão de Estacionamento: Entry Park – Rua Carmo do Rio Verde\, 152
URL:https://abas.eco.br/evento/confraternizacao-abas/
CATEGORIES:Confraternização
END:VEVENT
END:VCALENDAR