BEGIN:VCALENDAR
VERSION:2.0
PRODID:-//ABAS - ECPv6.15.18//NONSGML v1.0//EN
CALSCALE:GREGORIAN
METHOD:PUBLISH
X-WR-CALNAME:ABAS
X-ORIGINAL-URL:https://abas.eco.br
X-WR-CALDESC:Eventos para ABAS
REFRESH-INTERVAL;VALUE=DURATION:PT1H
X-Robots-Tag:noindex
X-PUBLISHED-TTL:PT1H
BEGIN:VTIMEZONE
TZID:UTC
BEGIN:STANDARD
TZOFFSETFROM:+0000
TZOFFSETTO:+0000
TZNAME:UTC
DTSTART:20240101T000000
END:STANDARD
END:VTIMEZONE
BEGIN:VEVENT
DTSTART;TZID=UTC:20250416T090000
DTEND;TZID=UTC:20250416T120000
DTSTAMP:20260424T110926
CREATED:20250106T172639Z
LAST-MODIFIED:20250217T181142Z
UID:1108-1744794000-1744804800@abas.eco.br
SUMMARY:Workshop: Sustentabilidade e reciclagem de aerossóis
DESCRIPTION:
URL:https://abas.eco.br/evento/reciclagem-de-aerossois/
CATEGORIES:Workshop
END:VEVENT
END:VCALENDAR