BEGIN:VCALENDAR
VERSION:2.0
PRODID:-//ABAS - ECPv6.15.18//NONSGML v1.0//EN
CALSCALE:GREGORIAN
METHOD:PUBLISH
X-ORIGINAL-URL:https://abas.eco.br
X-WR-CALDESC:Eventos para ABAS
REFRESH-INTERVAL;VALUE=DURATION:PT1H
X-Robots-Tag:noindex
X-PUBLISHED-TTL:PT1H
BEGIN:VTIMEZONE
TZID:UTC
BEGIN:STANDARD
TZOFFSETFROM:+0000
TZOFFSETTO:+0000
TZNAME:UTC
DTSTART:20240101T000000
END:STANDARD
END:VTIMEZONE
BEGIN:VEVENT
DTSTART;TZID=UTC:20250128T090000
DTEND;TZID=UTC:20250128T090000
DTSTAMP:20260424T161621
CREATED:20250106T162951Z
LAST-MODIFIED:20250113T153415Z
UID:1088-1738054800-1738054800@abas.eco.br
SUMMARY:ADF  - Paris Packaging Week
DESCRIPTION:A ADF é a oportunidade perfeita para fortalecer sua rede\, conhecer inovações e discutir temas globais sobre aerossóis. Com palestras sobre regulamentações internacionais e tecnologias emergentes\, o evento apresenta as principais tendências do setor.
URL:https://abas.eco.br/evento/28-01-adfparis/
CATEGORIES:Feira
END:VEVENT
BEGIN:VEVENT
DTSTART;TZID=UTC:20250129T090000
DTEND;TZID=UTC:20250129T170000
DTSTAMP:20260424T161621
CREATED:20250106T163758Z
LAST-MODIFIED:20250113T160315Z
UID:1092-1738141200-1738170000@abas.eco.br
SUMMARY:ADF  - Paris Packaging Week
DESCRIPTION:A ADF é a oportunidade perfeita para fortalecer sua rede\, conhecer inovações e discutir temas globais sobre aerossóis. Com palestras sobre regulamentações internacionais e tecnologias emergentes\, o evento apresenta as principais tendências do setor.
URL:https://abas.eco.br/evento/29-01-adfparis/
CATEGORIES:Feira
END:VEVENT
END:VCALENDAR