BEGIN:VCALENDAR
VERSION:2.0
PRODID:-//ABAS - ECPv6.15.18//NONSGML v1.0//EN
CALSCALE:GREGORIAN
METHOD:PUBLISH
X-ORIGINAL-URL:https://abas.eco.br
X-WR-CALDESC:Eventos para ABAS
REFRESH-INTERVAL;VALUE=DURATION:PT1H
X-Robots-Tag:noindex
X-PUBLISHED-TTL:PT1H
BEGIN:VTIMEZONE
TZID:UTC
BEGIN:STANDARD
TZOFFSETFROM:+0000
TZOFFSETTO:+0000
TZNAME:UTC
DTSTART:20250101T000000
END:STANDARD
END:VTIMEZONE
BEGIN:VEVENT
DTSTART;TZID=UTC:20261008T080000
DTEND;TZID=UTC:20261008T170000
DTSTAMP:20260423T201100
CREATED:20260109T182437Z
LAST-MODIFIED:20260109T182437Z
UID:3019-1791446400-1791478800@abas.eco.br
SUMMARY:12º Congresso Latinoamericano de Aerossóis
DESCRIPTION:Para dúvidas\, entre em contato pelo telefone +55 11 91330-4966. \n\nParceria: FLADA\nPreço por m²: R$ 2.900 a R$ 3.400
URL:https://abas.eco.br/evento/12o-congresso-latinoamericano-de-aerossois/
LOCATION:Hotel Sheraton Cidade do México
CATEGORIES:Evento
END:VEVENT
END:VCALENDAR