BEGIN:VCALENDAR
VERSION:2.0
PRODID:-//ABAS - ECPv6.15.18//NONSGML v1.0//EN
CALSCALE:GREGORIAN
METHOD:PUBLISH
X-ORIGINAL-URL:https://abas.eco.br
X-WR-CALDESC:Eventos para ABAS
REFRESH-INTERVAL;VALUE=DURATION:PT1H
X-Robots-Tag:noindex
X-PUBLISHED-TTL:PT1H
BEGIN:VTIMEZONE
TZID:UTC
BEGIN:STANDARD
TZOFFSETFROM:+0000
TZOFFSETTO:+0000
TZNAME:UTC
DTSTART:20240101T000000
END:STANDARD
END:VTIMEZONE
BEGIN:VEVENT
DTSTART;TZID=UTC:20250528T080000
DTEND;TZID=UTC:20250528T170000
DTSTAMP:20260424T123322
CREATED:20250506T143607Z
LAST-MODIFIED:20250506T143607Z
UID:1716-1748419200-1748451600@abas.eco.br
SUMMARY:PodCast: Regulatório
DESCRIPTION:
URL:https://abas.eco.br/evento/podcast-regulatorio/
CATEGORIES:Evento
END:VEVENT
END:VCALENDAR